Workbook
Name Cuadro_1: '[1]Cuadro 1.1'!$B$2
Name Cuadro_1.1: '[2]Cuadro 1.1'!$B$2
Name Cuadro_1.1: '[2]Cuadro 1.1'!$B$2
Name Cuadro_1.1: '[2]Cuadro 1.1'!$B$2
Name Cuadro_1.2: '[2]Cuadro 1.2'!$B$2
Name Cuadro_1.2: '[2]Cuadro 1.2'!$B$2
Name Cuadro_1.2: '[2]Cuadro 1.2'!$B$2
Name Cuadro_1.3: '[2]Cuadro 1.3'!$A$2
Name Cuadro_1.3: '[2]Cuadro 1.3'!$A$2
Name Cuadro_1.3: '[2]Cuadro 1.3'!$A$2
Name Cuadro_2.1: '[2]Cuadro 2.1'!$A$2
Name Cuadro_2.1: '[2]Cuadro 2.1'!$A$2
Name Cuadro_2.1: '[2]Cuadro 2.1'!$A$2
Name Cuadro_2.2: '[2]Cuadro 2.2'!$B$2
Name Cuadro_2.2: '[2]Cuadro 2.2'!$B$2
Name Cuadro_2.2: '[2]Cuadro 2.2'!$B$2
Name Cuadro_2.2_: #REF!
Name Cuadro_2.2_: #REF!
Name Cuadro_2.2_: #REF!
Name Cuadro_2.3: '[2]Cuadro 2.3'!$A$2
Name Cuadro_2.3: '[2]Cuadro 2.3'!$A$2
Name Cuadro_2.3: '[2]Cuadro 2.3'!$A$2
Name Cuadro_2.4: '[2]Cuadro 2.4'!$A$2
Name Cuadro_2.4: '[2]Cuadro 2.4'!$A$2
Name Cuadro_2.4: '[2]Cuadro 2.4'!$A$2
Name Cuadro_2.5: '[2]Cuadro 2.5'!$A$2
Name Cuadro_2.5: '[2]Cuadro 2.5'!$A$2
Name Cuadro_2.5: '[2]Cuadro 2.5'!$A$2
Name Cuadro_3: '[1]Cuadro 1.3'!$A$2
Name Cuadro_3..2: #REF!
Name Cuadro_3.1: '[2]Cuadro_3.1'!$A$2
Name Cuadro_3.1: '[2]Cuadro_3.1'!$A$2
Name Cuadro_3.1: '[2]Cuadro_3.1'!$A$2
Name Cuadro_3.2: #REF!
Name Cuadro_3.2: #REF!
Name Cuadro_3.2: #REF!
Name Cuadro_3.3: #REF!
Name Cuadro_3.3: #REF!
Name Cuadro_3.3: #REF!
Name Cuadro_3.4: '[2]Cuadro 3.4'!$A$2
Name Cuadro_3.4: '[2]Cuadro 3.4'!$A$2
Name Cuadro_3.4: '[2]Cuadro 3.4'!$A$2
Name Cuadro_3.5: '[2]Cuadro 3.5'!$A$2
Name Cuadro_3.5: '[2]Cuadro 3.5'!$A$2
Name Cuadro_3.5: '[2]Cuadro 3.5'!$A$2
Name Cuadro_3.5_: #REF!
Name Cuadro_3.5_: #REF!
Name Cuadro_3.5_: #REF!
Name Cuadro_3.6: '[2]Cuadro_3.6'!$A$2
Name Cuadro_3.6: '[2]Cuadro_3.6'!$A$2
Name Cuadro_3.6: '[2]Cuadro_3.6'!$A$2
Name Cuadro_3.7: '[2]Cuadro_3.7'!$A$2
Name Cuadro_3.7: '[2]Cuadro_3.7'!$A$2
Name Cuadro_3.7: '[2]Cuadro_3.7'!$A$2
Name Cuadro_3.8: '[2]Cuadro_3.8'!$A$2
Name Cuadro_3.8: '[2]Cuadro_3.8'!$A$2
Name Cuadro_3.8: '[2]Cuadro_3.8'!$A$2
Name Cuadro_3.9: '[2]Cuadro_3.9'!$A$2
Name Cuadro_3.9: '[2]Cuadro_3.9'!$A$2
Name Cuadro_3.9: '[2]Cuadro_3.9'!$A$2

Sheet H_Prestaciones_RC_01_M
A3: República Dominicana. Seguro Familiar de Salud. Régimen Contributivo.
A4: Montos pagados por Servicios Otorgados de Atenciones en el Plan Básico de Salud por Año de Cobertura y Grupo de Atención del PDSS.
A5: Serie Anual: 2007 - 2024 (Cifras en Pesos Dominicanos RD$)
A6: Grupo Número/2 | B6: Grupo Descripción | C6: 2007 | D6: 2008 | E6: 2009 | F6: 2010 | G6: 2011 | H6: 2012 | I6: 2013 | J6: 2014 | K6: 2015 | L6: 2016 | M6: 2017 | N6: 2018 | O6: 2019 | P6: 2020 | Q6: 2021 | R6: 2022 | S6: 2023 | T6: 2024 | U6: 2025
A7: Total Montos Pagados | C7: =SUM(C8:C20) -> 9.6901806e+08 | D7: =SUM(D8:D20) -> 4.7059715e+09 | E7: =SUM(E8:E20) -> 7.7982296e+09 | F7: =SUM(F8:F20) -> 1.3234901e+10 | G7: =SUM(G8:G20) -> 1.7641015e+10 | H7: =SUM(H8:H20) -> 1.9973127e+10 | I7: =SUM(I8:I20) -> 2.1604744e+10 | J7: =SUM(J8:J20) -> 2.5982869e+10 | ... U7: =SUM(U8:U20) -> 2.1463915e+10 | V7: =SUM(C8:C20)-C7 -> 0
A8: 1 | B8: Prevención y Promoción | C8: 79854821 | D8: 4.2220216e+08 | E8: 4.4500039e+08 | F8: 2.5658229e+08 | G8: 3.7946286e+08 | H8: 4.3301619e+08 | I8: 4.7314294e+08 | J8: 5.1196899e+08 | K8: 6.1671723e+08 | L8: 6.2512737e+08 | M8: 6.1349931e+08 | N8: 7.8257135e+08 | O8: 1.0988736e+09 | P8: 1.0880626e+09 | Q8: 1.2731144e+09 | R8: 1.5025116e+09 | S8: 1.644276e+09 | T8: 1.8751129e+09 | U8: 8.4374727e+08 | V8: =+C8/H_Prestaciones_RC_01_S!C8 -> 300.3269
A9: 2 | B9: Atención Ambulatoria | C9: 1.3057243e+08 | D9: 3.9884932e+08 | E9: 5.719192e+08 | F9: 1.0461538e+09 | G9: 1.1879875e+09 | H9: 1.3796825e+09 | I9: 1.4380887e+09 | J9: 1.5175651e+09 | K9: 1.7392749e+09 | L9: 1.9920383e+09 | M9: 2.3094443e+09 | N9: 2.7324802e+09 | O9: 3.2095677e+09 | P9: 3.4464618e+09 | Q9: 4.3402411e+09 | R9: 4.812477e+09 | S9: 4.7813231e+09 | T9: 5.0090331e+09 | U9: 1.2681229e+09 | V9: =+C9/H_Prestaciones_RC_01_S!C9 -> 267.8233
A10: 3 | B10: Servicios Odontológicos | C10: 337347.34 | D10: 11247929 | E10: 40809746 | F10: 1.4051713e+08 | G10: 291821496 | H10: 2.9951129e+08 | I10: 3.5612526e+08 | J10: 4.1700486e+08 | K10: 4.826067e+08 | L10: 5.5997752e+08 | M10: 6.3929789e+08 | N10: 6.5169484e+08 | O10: 6.8620923e+08 | P10: 5.1550351e+08 | Q10: 6.2630131e+08 | R10: 6.9369663e+08 | S10: 7.2530545e+08 | T10: 7.2114289e+08 | U10: 2.5224776e+08 | V10: =+C10/H_Prestaciones_RC_01_S!C10 -> 218.34779
A11: 4 | B11: Emergencia | C11: 1.1824077e+08 | D11: 4.3265647e+08 | E11: 6.1506744e+08 | F11: 1.0390048e+09 | G11: 1.2140045e+09 | H11: 1.51112e+09 | I11: 1.7069973e+09 | J11: 2.1893235e+09 | K11: 2.5476961e+09 | L11: 2.973599e+09 | M11: 3.0247805e+09 | N11: 3.3492743e+09 | O11: 3.7878916e+09 | P11: 3.0712726e+09 | Q11: 3.5215611e+09 | R11: 4.2425077e+09 | S11: 5.3402432e+09 | T11: 5.2648944e+09 | U11: 1.4489475e+09 | V11: =+C11/H_Prestaciones_RC_01_S!C11 -> 293.66667
A12: 5 | B12: Hospitalización | C12: 2.7451908e+08 | D12: 1.072586e+09 | E12: 1.6578858e+09 | F12: 3.3753794e+09 | G12: 4.5905279e+09 | H12: 3.9913117e+09 | I12: 3.9360932e+09 | J12: 4.6213287e+09 | K12: 5.1241154e+09 | L12: 5.1671006e+09 | M12: 4.9101102e+09 | N12: 5.0874607e+09 | O12: 5.8599096e+09 | P12: 7.5469944e+09 | Q12: 8.1963196e+09 | R12: 7.7561691e+09 | S12: 9.8769483e+09 | T12: 9.9949475e+09 | U12: 2.3383496e+09 | V12: =+C12/H_Prestaciones_RC_01_S!C12 -> 1017.1178
A13: 6 | B13: Partos | C13: 60012531 | D13: 3.582236e+08 | E13: 6.8135538e+08 | F13: 9.0768685e+08 | G13: 1.132454e+09 | H13: 1.2436596e+09 | I13: 1.2844242e+09 | J13: 1.5794195e+09 | K13: 1.682723e+09 | L13: 1.748016e+09 | M13: 1.9394419e+09 | N13: 2.1010148e+09 | O13: 2.1473905e+09 | P13: 2.1262244e+09 | Q13: 2.2021708e+09 | R13: 2.6488727e+09 | S13: 2.9481398e+09 | T13: 2.7021565e+09 | U13: 6.166568e+08 | V13: =+C13/H_Prestaciones_RC_01_S!C13 -> 2077.7085
A14: 7 | B14: Cirugía | C14: 77942686 | D14: 6.307394e+08 | E14: 1.3519584e+09 | F14: 2.2906144e+09 | G14: 3.0251818e+09 | H14: 3.7732591e+09 | I14: 3.900392e+09 | J14: 4.5988659e+09 | K14: 5.1457182e+09 | L14: 6.0270192e+09 | M14: 6.5913083e+09 | N14: 7.5426407e+09 | O14: 8.6528685e+09 | P14: 7.4470908e+09 | Q14: 1.0886909e+10 | R14: 1.3347975e+10 | S14: 1.6392523e+10 | T14: 1.7214185e+10 | U14: 3.7032989e+09 | V14: =+C14/H_Prestaciones_RC_01_S!C14 -> 1864.3454
A15: 8 | B15: Apoyo Diagnóstico (Dx) en Internamiento y Ambulatoria | C15: 1.9347752e+08 | D15: 9.285176e+08 | E15: 1.5701091e+09 | F15: 2.5612947e+09 | G15: 3.3313679e+09 | H15: 3.8764473e+09 | I15: 4.3853007e+09 | J15: 5.1088169e+09 | K15: 5.9882022e+09 | L15: 6.7189198e+09 | M15: 7.2993725e+09 | N15: 8.50159e+09 | O15: 9.8889276e+09 | P15: 1.2383077e+10 | Q15: 1.4636217e+10 | R15: 1.4163135e+10 | S15: 1.6778465e+10 | T15: 1.8366867e+10 | U15: 4.8592115e+09 | V15: =+C15/H_Prestaciones_RC_01_S!C15 -> 195.6423
A16: 9 | B16: Atenciones de Alto Costo y de Máximo Nivel de Complejidad | C16: 24333046 | D16: 1.9084833e+08 | E16: 4.4347067e+08 | F16: 9.3819295e+08 | G16: 1.4382972e+09 | H16: 2.0836706e+09 | I16: 2.3355914e+09 | J16: 3.4524309e+09 | K16: 4.2554164e+09 | L16: 5.0205527e+09 | M16: 5.6611061e+09 | N16: 7.1079044e+09 | O16: 7.9984944e+09 | P16: 8.5638316e+09 | Q16: 1.009322e+10 | R16: 1.0585083e+10 | S16: 1.3380132e+10 | T16: 1.4343254e+10 | U16: 3.4604902e+09 | V16: =+C16/H_Prestaciones_RC_01_S!C16 -> 1350.3355
A17: 10 | B17: Rehabilitación | C17: 572051.12 | D17: 28176029 | E17: 39160532 | F17: 86302240 | G17: 1.3198289e+08 | H17: 2.0033535e+08 | I17: 2.4942844e+08 | J17: 2.755074e+08 | K17: 3.6180189e+08 | L17: 4.6728918e+08 | M17: 4.2848654e+08 | N17: 5.3478815e+08 | O17: 6.5026122e+08 | P17: 4.6966446e+08 | Q17: 7.3620146e+08 | R17: 9.0446033e+08 | S17: 1.2351456e+09 | T17: 1.4839374e+09 | U17: 2.7158332e+08 | V17: =+C17/H_Prestaciones_RC_01_S!C17 -> 295.63365
A18: 11 | B18: Hemoterapia | C18: 11632 | D18: 472662.94 | E18: 1339643.8 | F18: 3380399.5 | G18: 6637831.4 | H18: 8129528.6 | I18: 8912578.7 | J18: 11035605 | K18: 15692877 | L18: 20627485 | M18: 24300869 | N18: 26009736 | O18: 26690031 | P18: 26633291 | Q18: 33599095 | R18: 33717974 | S18: 35243485 | T18: 49965723 | U18: 9622088.2 | V18: =+C18/H_Prestaciones_RC_01_S!C18 -> 184.63492
A19: 12 | B19: Medicamentos Ambulatorios | C19: 9144140.5 | D19: 2.3145202e+08 | E19: 3.8015335e+08 | F19: 5.8979199e+08 | G19: 9.1128874e+08 | H19: 1.1729839e+09 | I19: 1.5302468e+09 | J19: 1.6996017e+09 | K19: 1.8131347e+09 | L19: 3.1026739e+09 | M19: 3.6985291e+09 | N19: 4.3138935e+09 | O19: 4.8787722e+09 | P19: 4.8476791e+09 | Q19: 6.0441432e+09 | R19: 7.0448402e+09 | S19: 7.4851916e+09 | T19: 9.1790167e+09 | U19: 2.2967022e+09 | V19: =+C19/H_Prestaciones_RC_01_S!C19 -> 742.64115
A20: 13 | B20: Trasplante Renal | C20: 0 | D20: 0 | E20: 0 | F20: 0 | G20: 0 | H20: 0 | I20: 0 | J20: 0 | K20: 0 | L20: 0 | M20: 0 | N20: 0 | O20: 0 | P20: 0 | Q20: 2628127.2 | R20: 80139201 | S20: 2.7687147e+08 | T20: 3.5219424e+08 | U20: 94934796 | V20: =+C20/H_Prestaciones_RC_01_S!C20 -> #DIV/0!
A21: Distribución Porcentual | C21: 1 | D21: 1 | E21: 1 | F21: 1 | G21: 1 | H21: 1 | I21: 1 | J21: 1 | K21: 1 | L21: 1 | M21: 1 | N21: 1 | O21: 1 | P21: 1 | Q21: 1 | R21: 1 | S21: 1 | T21: 1 | U21: 1 | V21: =SUM(C22:C34)-C21 -> 0
A22: 1 | B22: Prevención y Promoción | C22: 0.08240798 | D22: 0.089716259 | E22: 0.057064284 | F22: 0.019386793 | G22: 0.021510263 | H22: 0.02167994 | I22: 0.021899957 | J22: 0.019704098 | K22: 0.020713907 | L22: 0.018160197 | M22: 0.016518703 | N22: 0.018313764 | O22: 0.022478355 | P22: 0.021114107 | Q22: 0.020339687 | R22: 0.022155845 | S22: 0.020324845 | T22: 0.021663404 | U22: 0.039310036 | V22: =C8/C$7-C22 -> 0
A23: 2 | B23: Atención Ambulatoria | C23: 0.13474716 | D23: 0.084753875 | E23: 0.073339621 | F23: 0.079045083 | G23: 0.067342358 | H23: 0.069076942 | I23: 0.066563563 | J23: 0.058406373 | K23: 0.058417662 | L23: 0.057869498 | M23: 0.062182669 | N23: 0.063945604 | O23: 0.065654322 | P23: 0.06687939 | Q23: 0.069341093 | R23: 0.070964174 | S23: 0.059101786 | T23: 0.057869959 | U23: 0.059081622 | V23: =C9/C$7-C23 -> 0
A24: 3 | B24: Servicios Odontológicos | C24: 0.00034813318 | D24: 0.0023901396 | E24: 0.0052332065 | F24: 0.010617165 | G24: 0.016542217 | H24: 0.014995713 | I24: 0.016483661 | J24: 0.016049223 | K24: 0.016209488 | L24: 0.016267568 | M24: 0.01721334 | N24: 0.015250987 | O24: 0.014036969 | P24: 0.010003465 | Q24: 0.010005992 | R24: 0.010229162 | S24: 0.008965478 | T24: 0.0083314502 | U24: 0.011752179 | V24: =C10/C$7-C24 -> 0
A25: 4 | B25: Emergencia | C25: 0.12202123 | D25: 0.091937758 | E25: 0.078872702 | F25: 0.07850492 | G25: 0.068817157 | H25: 0.075657658 | I25: 0.079010303 | J25: 0.084260268 | K25: 0.085570403 | L25: 0.086384222 | M25: 0.081443371 | N25: 0.078379841 | O25: 0.077484407 | P25: 0.059598755 | Q25: 0.056261597 | R25: 0.06255948 | S25: 0.066010579 | T25: 0.060825955 | U25: 0.067506206 | V25: =C11/C$7-C25 -> 0
A26: 5 | B26: Hospitalización | C26: 0.28329615 | D26: 0.2279202 | E26: 0.21259771 | F26: 0.25503624 | G26: 0.26021904 | H26: 0.19983409 | I26: 0.18218653 | J26: 0.1778606 | K26: 0.17210554 | L26: 0.15010631 | M26: 0.13220659 | N26: 0.11905694 | O26: 0.11986922 | P26: 0.14645117 | Q26: 0.13094705 | R26: 0.11437148 | S26: 0.12208865 | T26: 0.11547283 | U26: 0.1089433 | V26: =C12/C$7-C26 -> 0
A27: 6 | B27: Partos | C27: 0.061931282 | D27: 0.076121073 | E27: 0.087373084 | F27: 0.068582821 | G27: 0.064194381 | H27: 0.062266643 | I27: 0.059451028 | J27: 0.060786953 | K27: 0.056518234 | L27: 0.050780553 | M27: 0.052220213 | N27: 0.049168026 | O27: 0.043926622 | P27: 0.041259876 | Q27: 0.035182592 | R27: 0.03905994 | S27: 0.036441864 | T27: 0.031218338 | U27: 0.028729931 | V27: =C13/C$7-C27 -> 0
A28: 7 | B28: Cirugía | C28: 0.080434709 | D28: 0.13402958 | E28: 0.17336734 | F28: 0.17307379 | G28: 0.1714857 | H28: 0.18891679 | I28: 0.18053405 | J28: 0.17699608 | K28: 0.17283112 | L28: 0.17508728 | M28: 0.17747349 | N28: 0.17651316 | O28: 0.17700147 | P28: 0.14451252 | Q28: 0.17393277 | R28: 0.19682755 | S28: 0.20262746 | T28: 0.19887754 | U28: 0.17253604 | V28: =C14/C$7-C28 -> 0
A29: 8 | B29: Apoyo Diagnóstico (Dx) en Internamiento y Ambulatoria | C29: 0.19966348 | D29: 0.19730625 | E29: 0.20134174 | F29: 0.19352579 | G29: 0.18884219 | H29: 0.19408315 | I29: 0.20297861 | J29: 0.19662251 | K29: 0.20112794 | L29: 0.19518727 | M29: 0.19653839 | N29: 0.19895452 | O29: 0.20228607 | P29: 0.24029648 | Q29: 0.23383292 | R29: 0.20884778 | S29: 0.20739809 | T29: 0.21219461 | U29: 0.22638981 | V29: =C15/C$7-C29 -> 0
A30: 9 | B30: Atenciones de Alto Costo y de Máximo Nivel de Complejidad | C30: 0.025111034 | D30: 0.040554503 | E30: 0.056868121 | F30: 0.070887795 | G30: 0.081531432 | H30: 0.1043237 | I30: 0.10810549 | J30: 0.13287335 | K30: 0.14292823 | L30: 0.14584903 | M30: 0.15242744 | N30: 0.16633944 | O30: 0.16361572 | P30: 0.16618313 | Q30: 0.16125254 | R30: 0.15608628 | S30: 0.1653914 | T30: 0.16570933 | U30: 0.16122363 | V30: =C16/C$7-C30 -> 0
A31: 10 | B31: Rehabilitación | C31: 0.00059034103 | D31: 0.0059872927 | E31: 0.0050217208 | F31: 0.0065208073 | G31: 0.0074815931 | H31: 0.010030244 | I31: 0.011545077 | J31: 0.010603425 | K31: 0.012151973 | L31: 0.013574935 | M31: 0.011537164 | N31: 0.012515132 | O31: 0.013301623 | P31: 0.0091139476 | Q31: 0.011761792 | R31: 0.013337057 | S31: 0.015267596 | T31: 0.017144106 | U31: 0.012653019 | V31: =C17/C$7-C31 -> 0
A32: 11 | B32: Hemoterapia | C32: 1.2003904e-05 | D32: 0.00010043897 | E32: 0.0001717882 | F32: 0.00025541555 | G32: 0.00037627265 | H32: 0.00040702333 | I32: 0.00041252879 | J32: 0.0004247262 | K32: 0.0005270824 | L32: 0.00059923656 | M32: 0.00065431019 | N32: 0.0006086808 | O32: 0.00054596631 | P32: 0.00051682517 | Q32: 0.00053678999 | R32: 0.00049720096 | S32: 0.00043564361 | T32: 0.00057725998 | U32: 0.00044829139 | V32: =C18/C$7-C32 -> 0
A33: 12 | B33: Medicamentos Ambulatorios | C33: 0.0094365016 | D33: 0.049182623 | E33: 0.048748674 | F33: 0.044563385 | G33: 0.051657388 | H33: 0.058728103 | I33: 0.070829204 | J33: 0.065412395 | K33: 0.06089842 | L33: 0.0901339 | M33: 0.099584309 | N33: 0.1009539 | O33: 0.099799258 | P33: 0.094070334 | Q33: 0.096563183 | R33: 0.10388232 | S33: 0.092524219 | T33: 0.10604628 | U33: 0.10700295 | V33: =C19/C$7-C33 -> 0
A34: 13 | B34: Trasplante Renal | C34: 0 | D34: 0 | E34: 0 | F34: 0 | G34: 0 | H34: 0 | I34: 0 | J34: 0 | K34: 0 | L34: 0 | M34: 0 | N34: 0 | O34: 0 | P34: 0 | Q34: 4.1987809e-05 | R34: 0.0011817225 | S34: 0.0034223996 | T34: 0.0040689422 | U34: 0.0044229954 | V34: =C20/C$7-C34 -> 0
A35: Notas: 1/Año en el que el Afiliado tiene acceso a recibir las prestaciones del Seguro Familiar de Salud (SFS). Se determina a partir del momento en que se realiza la Dispersión y se asocia con el periodo de factura que se realiza.
A36: 2/Grupo de Atención del Plan de Servicios de Salud.(PDSS)
A37: Fecha de actualización: 19/09/2025
A38: Fuente: SISALRIL. A partir de los datos suministrados por las ARS de servicios otorgados y pagados al cierre del mes de Mayo 2025.

Sheet H_Prestaciones_RC_01_S
A3: República Dominicana. Seguro Familiar de Salud. Régimen Contributivo.
A4: Servicios Otorgados a los Afiliados en el Plan Básico de Salud por Año de Cobertura y Grupo de Atención del PDSS.
A5: Serie Anual: 2010 - 2024
A6: Grupo Número/2 | B6: Grupo Descripción | C6: 2007 | D6: 2008 | E6: 2009 | F6: 2010 | G6: 2011 | H6: 2012 | I6: 2013 | J6: 2014 | K6: 2015 | L6: 2016 | M6: 2017 | N6: 2018 | O6: 2019 | P6: 2020 | Q6: 2021 | R6: 2022 | S6: 2023 | T6: 2024 | U6: 2025
A7: Servicios Otorgados | C7: =SUM(C8:C20) -> 2519462 | D7: =SUM(D8:D20) -> 9900849 | E7: =SUM(E8:E20) -> 13907318 | F7: =SUM(F8:F20) -> 21937713 | G7: =SUM(G8:G20) -> 29433368 | H7: =SUM(H8:H20) -> 34098484 | I7: =SUM(I8:I20) -> 37601611 | J7: =SUM(J8:J20) -> 45402622 | ... U7: =SUM(U8:U20) -> 24158791
A8: 1 | B8: Prevención y Promoción | C8: 265893 | D8: 1061970 | E8: 1133768 | F8: 783891 | G8: 1103615 | H8: 1293146 | I8: 1571060 | J8: 1610683 | K8: 2047688 | L8: 2279261 | M8: 1648455 | N8: 1628323 | O8: 2117567 | P8: 1839910 | Q8: 2094887 | R8: 2234407 | S8: 2205686 | T8: 2049082 | U8: 688661
A9: 2 | B9: Atención Ambulatoria | C9: 487532 | D9: 1446075 | E9: 1908594 | F9: 3369211 | G9: 3807339 | H9: 4434617 | I9: 4492167 | J9: 4787639 | K9: 5455272 | L9: 6331400 | M9: 7278208 | N9: 8330687 | O9: 8776487 | P9: 6510490 | Q9: 8102816 | R9: 8751820 | S9: 8729343 | T9: 8885213 | U9: 2063624
A10: 3 | B10: Servicios Odontológicos | C10: 1545 | D10: 47966 | E10: 95582 | F10: 265006 | G10: 455785 | H10: 517266 | I10: 583899 | J10: 670852 | K10: 860779 | L10: 1011823 | M10: 1102453 | N10: 1127196 | O10: 1120852 | P10: 770040 | Q10: 975651 | R10: 1054959 | S10: 1041990 | T10: 984637 | U10: 291166
A11: 4 | B11: Emergencia | C11: 402636 | D11: 1505599 | E11: 2041824 | F11: 3654432 | G11: 4007416 | H11: 4207124 | I11: 4834603 | J11: 7699184 | K11: 8523724 | L11: 9729655 | M11: 8933217 | N11: 9359366 | O11: 10194359 | P11: 6819470 | Q11: 7853457 | R11: 9710957 | S11: 10770774 | T11: 10200889 | U11: 3501337
A12: 5 | B12: Hospitalización | C12: 269899 | D12: 912621 | E12: 1154305 | F12: 2511139 | G12: 2722500 | H12: 2696980 | I12: 2769567 | J12: 5407158 | K12: 7599871 | L12: 11455346 | M12: 7840398 | N12: 3928094 | O12: 4240644 | P12: 3055860 | Q12: 3815417 | R12: 4120536 | S12: 4648329 | T12: 4429216 | U12: 992199
A13: 6 | B13: Partos | C13: 28884 | D13: 151519 | E13: 267499 | F13: 382840 | G13: 459617 | H13: 448290 | I13: 452989 | J13: 758992 | K13: 1008049 | L13: 1613234 | M13: 1212672 | N13: 970753 | O13: 929888 | P13: 851296 | Q13: 854084 | R13: 977200 | S13: 1020052 | T13: 925289 | U13: 202098
A14: 7 | B14: Cirugía | C14: 41807 | D14: 260472 | E14: 456486 | F14: 755466 | G14: 888812 | H14: 881945 | I14: 863632 | J14: 1055052 | K14: 1262349 | L14: 1758097 | M14: 1820730 | N14: 1780724 | O14: 1784944 | P14: 1421775 | Q14: 1882172 | R14: 2051749 | S14: 2245527 | T14: 2347122 | U14: 526356
A15: 8 | B15: Apoyo Diagnóstico (Dx) en Internamiento y Ambulatoria | C15: 988935 | D15: 4059729 | E15: 5892455 | F15: 8596529 | G15: 11041371 | H15: 14012560 | I15: 15841731 | J15: 16236232 | K15: 20163126 | L15: 23109419 | M15: 24341059 | N15: 28122311 | O15: 32058991 | P15: 28288787 | Q15: 36612116 | R15: 39798640 | S15: 43264809 | T15: 46086620 | U15: 12587839
A16: 9 | B16: Atenciones de Alto Costo y de Máximo Nivel de Complejidad | C16: 18020 | D16: 79998 | E16: 265833 | F16: 228683 | G16: 296742 | H16: 303746 | I16: 340278 | J16: 1231819 | K16: 7367533 | L16: 12471864 | M16: 4270510 | N16: 994797 | O16: 1104403 | P16: 1069632 | Q16: 1304999 | R16: 1423964 | S16: 1790392 | T16: 1760234 | U16: 327011
A17: 10 | B17: Rehabilitación | C17: 1935 | D17: 24312 | E17: 54761 | F17: 113098 | G17: 175682 | H17: 270544 | I17: 371548 | J17: 355471 | K17: 460828 | L17: 535094 | M17: 561646 | N17: 731792 | O17: 880074 | P17: 619600 | Q17: 947415 | R17: 1164148 | S17: 1373445 | T17: 1649777 | U17: 317438
A18: 11 | B18: Hemoterapia | C18: 63 | D18: 173 | E18: 620 | F18: 1115 | G18: 2595 | H18: 4179 | I18: 3934 | J18: 5064 | K18: 6890 | L18: 8679 | M18: 11190 | N18: 14142 | O18: 15667 | P18: 14739 | Q18: 21331 | R18: 25123 | S18: 30361 | T18: 35094 | U18: 1751
A19: 12 | B19: Medicamentos Ambulatorios | C19: 12313 | D19: 350415 | E19: 635591 | F19: 1276303 | G19: 4471894 | H19: 5028087 | I19: 5476203 | J19: 5584476 | K19: 6439034 | L19: 10301250 | M19: 8540042 | N19: 7311687 | O19: 7867993 | P19: 6861783 | Q19: 8264551 | R19: 9394613 | S19: 9657495 | T19: 10685713 | U19: 2649969
A20: 13 | B20: Trasplante Renal | C20: 0 | D20: 0 | E20: 0 | F20: 0 | G20: 0 | H20: 0 | I20: 0 | J20: 0 | K20: 0 | L20: 0 | M20: 0 | N20: 0 | O20: 0 | P20: 0 | Q20: 379 | R20: 10536 | S20: 25063 | T20: 32933 | U20: 9342
A21: Distribución Porcentual | C21: 1 | D21: 1 | E21: 1 | F21: 1 | G21: 1 | H21: 1 | I21: 1 | J21: 1 | K21: 1 | L21: 1 | M21: 1 | N21: 1 | O21: 1 | P21: 1 | Q21: 1 | R21: 1 | S21: 1 | T21: 1 | U21: 1
A22: 1 | B22: Prevención y Promoción | C22: 0.10553563 | D22: 0.1072605 | E22: 0.081523123 | F22: 0.035732576 | G22: 0.037495369 | H22: 0.037923856 | I22: 0.04178172 | J22: 0.03547555 | K22: 0.03346161 | L22: 0.028276876 | M22: 0.024399657 | N22: 0.025323892 | O22: 0.029786346 | P22: 0.031655247 | Q22: 0.028803903 | R22: 0.027681421 | S22: 0.025410173 | T22: 0.022749424 | U22: 0.028505607
A23: 2 | B23: Atención Ambulatoria | C23: 0.19350639 | D23: 0.14605566 | E23: 0.13723667 | F23: 0.15358078 | G23: 0.12935451 | H23: 0.1300532 | I23: 0.11946741 | J23: 0.10544851 | K23: 0.089145506 | L23: 0.078548358 | M23: 0.10772862 | N23: 0.12955993 | O23: 0.12345275 | P23: 0.11201155 | Q23: 0.11141065 | R23: 0.10842376 | S23: 0.10056468 | T23: 0.098645871 | U23: 0.085419175
A24: 3 | B24: Servicios Odontológicos | C24: 0.00061322616 | D24: 0.004844635 | E24: 0.0068727845 | F24: 0.012079928 | G24: 0.015485316 | H24: 0.015169765 | I24: 0.015528563 | J24: 0.014775622 | K24: 0.014066133 | L24: 0.012552838 | M24: 0.016317992 | N24: 0.017530299 | O24: 0.015766247 | P24: 0.013248369 | Q24: 0.013414832 | R24: 0.013069581 | S24: 0.012004041 | T24: 0.010931688 | U24: 0.012052176
A25: 4 | B25: Emergencia | C25: 0.15981031 | D25: 0.15206767 | E25: 0.14681652 | F25: 0.16658218 | G25: 0.13615214 | H25: 0.12338156 | I25: 0.12857436 | J25: 0.16957576 | K25: 0.13928759 | L25: 0.12070765 | M25: 0.13222529 | N25: 0.14555808 | O25: 0.14339698 | P25: 0.11732748 | Q25: 0.10798206 | R25: 0.12030623 | S25: 0.12408259 | T25: 0.11325284 | U25: 0.14493014
A26: 5 | B26: Hospitalización | C26: 0.10712565 | D26: 0.092176035 | E26: 0.082999828 | F26: 0.11446676 | G26: 0.09249706 | H26: 0.079093839 | I26: 0.073655541 | J26: 0.11909352 | K26: 0.12419075 | L26: 0.14211685 | M26: 0.11604989 | N26: 0.06109023 | O26: 0.059650197 | P26: 0.052575399 | Q26: 0.052460539 | R26: 0.051048127 | S26: 0.053550163 | T26: 0.049174271 | U26: 0.041069895
A27: 6 | B27: Partos | C27: 0.011464352 | D27: 0.015303637 | E27: 0.019234406 | F27: 0.017451227 | G27: 0.015615508 | H27: 0.013146919 | I27: 0.012047064 | J27: 0.01671692 | K27: 0.016472696 | L27: 0.020014038 | M27: 0.017949402 | N27: 0.015097277 | O27: 0.013080089 | P27: 0.01464636 | Q27: 0.011743332 | R27: 0.012106248 | S27: 0.011751309 | T27: 0.010272791 | U27: 0.0083654021
A28: 7 | B28: Cirugía | C28: 0.016593622 | D28: 0.026308047 | E28: 0.032823439 | F28: 0.034436862 | G28: 0.030197428 | H28: 0.02586464 | I28: 0.022967952 | J28: 0.023237689 | K28: 0.020628255 | L28: 0.021811232 | M28: 0.026949591 | N28: 0.027694052 | O28: 0.025107569 | P28: 0.024461326 | Q28: 0.025879153 | R28: 0.025418524 | S28: 0.025869153 | T28: 0.026058339 | U28: 0.021787349
A29: 8 | B29: Apoyo Diagnóstico (Dx) en Internamiento y Ambulatoria | C29: 0.39251832 | D29: 0.41003847 | E29: 0.42369456 | F29: 0.39186077 | G29: 0.37513108 | H29: 0.41094378 | I29: 0.42130458 | J29: 0.3576056 | K29: 0.32948899 | L29: 0.28669914 | M29: 0.36028493 | N29: 0.43736185 | O29: 0.45095158 | P29: 0.48670236 | Q29: 0.50340274 | R29: 0.49305382 | S29: 0.49842375 | T29: 0.51166525 | U29: 0.5210459
A30: 9/3 | B30: Atenciones de Alto Costo y de Máximo Nivel de Complejidad | C30: 0.0071523206 | D30: 0.0080799131 | E30: 0.019114613 | F30: 0.010424195 | G30: 0.010081823 | H30: 0.0089079034 | I30: 0.0090495591 | J30: 0.02713101 | K30: 0.12039408 | L30: 0.15472793 | M30: 0.063210085 | N30: 0.015471213 | O30: 0.015534871 | P30: 0.018402783 | Q30: 0.017943242 | R30: 0.017641078 | S30: 0.02062586 | T30: 0.019542561 | U30: 0.013535901
A31: 10 | B31: Rehabilitación | C31: 0.00076802111 | D31: 0.002455547 | E31: 0.0039375673 | F31: 0.0051554143 | G31: 0.0059688038 | H31: 0.0079341944 | I31: 0.0098811724 | J31: 0.0078293055 | K31: 0.0075304669 | L31: 0.0066384615 | M31: 0.0083132205 | N31: 0.011380925 | O31: 0.01237939 | P31: 0.010660082 | Q31: 0.013026598 | R31: 0.014422292 | S31: 0.015822504 | T31: 0.018316239 | U31: 0.013139648
A32: 11 | B32: Hemoterapia | C32: 2.5005338e-05 | D32: 1.7473249e-05 | E32: 4.4580846e-05 | F32: 5.0825717e-05 | G32: 8.8165242e-05 | H32: 0.00012255677 | I32: 0.00010462318 | J32: 0.00011153541 | K32: 0.00011259063 | L32: 0.00010767306 | M32: 0.00016562913 | N32: 0.00021993823 | O32: 0.00022037682 | P32: 0.00025358125 | Q32: 0.00029329318 | R32: 0.00031124157 | S32: 0.00034976795 | T32: 0.00038962242 | U32: 7.2478793e-05
A33: 12 | B33: Medicamentos Ambulatorios | C33: 0.0048871545 | D33: 0.035392419 | E33: 0.04570191 | F33: 0.058178489 | G33: 0.1519328 | H33: 0.14745779 | I33: 0.14563746 | J33: 0.12299898 | K33: 0.10522132 | L33: 0.12779895 | M33: 0.12640569 | N33: 0.11371231 | O33: 0.1106736 | P33: 0.11805547 | Q33: 0.11363445 | R33: 0.11638714 | S33: 0.11125728 | T33: 0.11863547 | U33: 0.10968964
A34: 13 | B34: Trasplante Renal | C34: 0 | D34: 0 | E34: 0 | F34: 0 | G34: 0 | H34: 0 | I34: 0 | J34: 0 | K34: 0 | L34: 0 | M34: 0 | N34: 0 | O34: 0 | P34: 0 | Q34: 5.2111065e-06 | R34: 0.00013052745 | S34: 0.00028873338 | T34: 0.00036563045 | U34: 0.00038669154
A35: Notas: 1/Año en el que el Afiliado tiene acceso a recibir las prestaciones del Seguro Familiar de Salud (SFS). Se determina a partir del momento en que se realiza la Dispersión y se asocia con el periodo de factura que se realiza.
A36: 2/Grupo de Atención del Plan de Servicios de Salud.(PDSS)
A37: 3/ En el Grupo Número 9 para los años comprendidos entre 2011 y 2017, se realizó una correción en la serie de servicios otorgados, de la cobertura 2515 (Oxigeno Tanque), imputandose la cantidad de servicios otorgados, por la cantidad de afiliados únicos que recibieron esta cobertura, esto es debido a, diferencias en el reporte según las unidades de distribución entre las ARS.
A38: Fecha de actualización: 19/09/2025
A39: Fuente: SISALRIL. A partir de los datos suministrados por las ARS de servicios otorgados y pagados al cierre del mes de Mayo 2025.
